BEGIN:VCALENDAR
METHOD:PUBLISH
VERSION:2.0
PRODID:-//WoltLab GmbH//WoltLab Suite Calendar 5.4//EN
CALSCALE:GREGORIAN
X-WR-CALNAME;VALUE=TEXT:2. Bremer Community Treffen
BEGIN:VEVENT
TRANSP:OPAQUE
UID:event-1@anime-community-germany.de
URL:https://anime-community-germany.de/calendar/event/1-2-bremer-community-
 treffen/
DTSTART:20180707T090000Z
DTSTAMP:20180707T090000Z
CREATED:20180707T090000Z
SUMMARY:2. Bremer Community Treffen
DESCRIPTION:Alle Infos rund um das 2. Bremer CT findest du hier [URL:https:
 //anime-community-germany.de/forum/thread/27824-2-community-treffen-bremen/
 ?postID=905020#post905020]
LOCATION:Bremen\, Deutschland
GEO:53.0792961;8.8016939
DTEND:20180707T200000Z
CATEGORIES:Community,Treffen,Communitytreffen,Bremen
END:VEVENT
END:VCALENDAR
