BEGIN:VCALENDAR
METHOD:PUBLISH
VERSION:2.0
PRODID:-//WoltLab GmbH//WoltLab Suite Calendar 5.4//EN
CALSCALE:GREGORIAN
X-WR-CALNAME;VALUE=TEXT:ACG Sommerfest
BEGIN:VEVENT
TRANSP:OPAQUE
UID:event-102@anime-community-germany.de
URL:https://anime-community-germany.de/calendar/event/102-acg-sommerfest/
DTSTART:20200822T080000Z
DTSTAMP:20200822T080000Z
CREATED:20200822T080000Z
SUMMARY:ACG Sommerfest
DESCRIPTION:Anlässlich unseres 20 jährigen Jubiläums veranstalten wir unser
  erstes ACG Sommerfest!\n\nHier könnt ihr euch dafür anmelden.\n\nAlle Info
 rmationen findet ihr im Hier: ACG Sommerfest [URL:https://anime-community-g
 ermany.de/forum/thread/31929-acg-sommerfest/]
DTEND:20200822T200000Z
STATUS:CANCELLED
CATEGORIES:Mitglieder,Communitytreffen,Sommerfest,Mitgliedertreffen
END:VEVENT
END:VCALENDAR
