BEGIN:VCALENDAR
METHOD:PUBLISH
VERSION:2.0
PRODID:-//WoltLab GmbH//WoltLab Suite Calendar 5.4//EN
CALSCALE:GREGORIAN
X-WR-CALNAME;VALUE=TEXT:10. NRW CT
BEGIN:VEVENT
TRANSP:TRANSPARENT
UID:event-119@anime-community-germany.de
URL:https://anime-community-germany.de/calendar/event/119-10-nrw-ct/
DTSTART;VALUE=DATE:20200418
DTSTAMP:20200418T000000Z
CREATED:20200418T000000Z
SUMMARY:10. NRW CT
DESCRIPTION:Alle Infos zum 10. NRW CT findest du HIER! [URL:https://anime-c
 ommunity-germany.de/forum/thread/32868-10-nrw-ct/?pageNo=1]\n\nViel Spaß!!
DTEND;VALUE=DATE:20200419
END:VEVENT
END:VCALENDAR
