BEGIN:VCALENDAR
METHOD:PUBLISH
VERSION:2.0
PRODID:-//WoltLab GmbH//WoltLab Suite Calendar 5.4//EN
CALSCALE:GREGORIAN
X-WR-CALNAME;VALUE=TEXT:DoKomi 2020
BEGIN:VEVENT
TRANSP:TRANSPARENT
UID:event-122@anime-community-germany.de
URL:https://anime-community-germany.de/calendar/event/122-dokomi-2020/
DTSTART;VALUE=DATE:20200926
DTSTAMP:20200926T000000Z
CREATED:20200926T000000Z
SUMMARY:DoKomi 2020
DESCRIPTION:Termin: 12.09.-13.09.2020\n\nOrt: CCD Congress Center Düsseldor
 f [URL:https://www.messen.de/de/410/messeort/ccd-congress-center-duesseldor
 f/messen]\, Düsseldorf\n\nLink: https://www.dokomi.de/de\n\nTickets [URL:ht
 tps://www.dokomi.de/de/ticketshop]\n\nDie Messe DoKomi Düsseldorf ist die A
 nime-\, Manga und Japan- Convention. Mehr als 650 Aussteller und Händler pr
 äsentieren auf der DoKomi Messe Düsseldorf die neuesten Anime\, Manga\, Mus
 ik und andere Merchandise-Artikel sowie CDs\, DVDs\, Poster\, Figuren\, Acc
 essoires oder auch Kleidung aus Japan. Ein abwechslungsreiches Bühnenprogra
 mm mit Showacts\, Wettbewerben\, einer interaktive Cosplay-Stage und weiter
 en innovativen Programmpunkten rundet das Angebotsspektrum der Düsseldorf M
 angamesse DoKomi ab.\n\nQuelle [URL:https://www.messen.de/de/15553/duesseld
 orf/dokomi/info]
LOCATION:Stockumer Kirchstraße 61\, 40474 Düsseldorf\, Deutschland
GEO:51.2565384;6.7400217
DTEND;VALUE=DATE:20200928
END:VEVENT
END:VCALENDAR
