BEGIN:VCALENDAR
METHOD:PUBLISH
VERSION:2.0
PRODID:-//WoltLab GmbH//WoltLab Suite Calendar 5.4//EN
CALSCALE:GREGORIAN
X-WR-CALNAME;VALUE=TEXT:7. Niedersachsen CT
BEGIN:VEVENT
TRANSP:TRANSPARENT
UID:event-13@anime-community-germany.de
URL:https://anime-community-germany.de/calendar/event/13-7-niedersachsen-ct
 /
DTSTART;VALUE=DATE:20181006
DTSTAMP:20181006T000000Z
CREATED:20181006T000000Z
SUMMARY:7. Niedersachsen CT
DESCRIPTION:Community Treffen auf Der NiCon 2018 In Hannover
LOCATION:FZH Vahrenwald Vahrenwalder Straße 92 30165 Hannover
GEO:52.5169983;13.3999996
DTEND;VALUE=DATE:20181007
CATEGORIES:NiCon,ct,Niedersachen
END:VEVENT
END:VCALENDAR
