BEGIN:VCALENDAR
METHOD:PUBLISH
VERSION:2.0
PRODID:-//WoltLab GmbH//WoltLab Suite Calendar 5.4//EN
CALSCALE:GREGORIAN
X-WR-CALNAME;VALUE=TEXT:15. baden-württembergisches Community Treffen
BEGIN:VEVENT
TRANSP:OPAQUE
UID:event-17@anime-community-germany.de
URL:https://anime-community-germany.de/calendar/event/17-15-baden-w%C3%BCrt
 tembergisches-community-treffen/
DTSTART:20180929T100000Z
DTSTAMP:20180929T100000Z
CREATED:20180929T100000Z
SUMMARY:15. baden-württembergisches Community Treffen
DESCRIPTION:15. baden-württembergische Community Treffen. Interesse geweckt
 ? Dann wirf doch hier [URL:https://anime-community-germany.de/forum/thread/
 28201-15-baden-w%C3%BCrttembergisches-community-treffen/?postID=928524#post
 928524] einen Blick rein und sei dabei!
LOCATION:Stuttgart\, Deutschland
GEO:48.7758446;9.1829319
DTEND:20180929T180000Z
END:VEVENT
END:VCALENDAR
