BEGIN:VCALENDAR
METHOD:PUBLISH
VERSION:2.0
PRODID:-//WoltLab GmbH//WoltLab Suite Calendar 5.4//EN
CALSCALE:GREGORIAN
X-WR-CALNAME;VALUE=TEXT:1. CT Hamburg
BEGIN:VEVENT
TRANSP:TRANSPARENT
UID:event-18@anime-community-germany.de
URL:https://anime-community-germany.de/calendar/event/18-1-ct-hamburg/
DTSTART;VALUE=DATE:20181201
DTSTAMP:20181201T000000Z
CREATED:20181201T000000Z
SUMMARY:1. CT Hamburg
DESCRIPTION:Mehr Infos zum CT gibt's >> HIER << [URL:https://anime-communit
 y-germany.de/forum/thread/28221-1-community-treffen-hamburg/]
DTEND;VALUE=DATE:20181202
END:VEVENT
END:VCALENDAR
