BEGIN:VCALENDAR
METHOD:PUBLISH
VERSION:2.0
PRODID:-//WoltLab GmbH//WoltLab Suite Calendar 5.4//EN
CALSCALE:GREGORIAN
X-WR-CALNAME;VALUE=TEXT:19. Ba-Wü CT
BEGIN:VEVENT
TRANSP:OPAQUE
UID:event-182@anime-community-germany.de
URL:https://anime-community-germany.de/calendar/event/182-19-ba-w%C3%BC-ct/
DTSTART:20210911T100000Z
DTSTAMP:20210911T100000Z
CREATED:20210911T100000Z
SUMMARY:19. Ba-Wü CT
DESCRIPTION:Endlich! Das erste CT\, seit Corona\, steht mal wieder an - bit
 te meldet euch an\, damit wir planen können :)\n\nIm entsprechenden Thread 
 [URL:https://anime-community-germany.de/forum/thread/41712-19-baden-w%C3%BC
 rttemberg-ct/?postID=1132265#post1132265] findet ihr die restlichen Informa
 tionen  :rice-thumbs-up:
LOCATION:Ulm\, Deutschland
GEO:48.4010811;9.987608
DTEND:20210911T180000Z
END:VEVENT
END:VCALENDAR
