BEGIN:VCALENDAR
METHOD:PUBLISH
VERSION:2.0
PRODID:-//WoltLab GmbH//WoltLab Suite Calendar 5.4//EN
CALSCALE:GREGORIAN
X-WR-CALNAME;VALUE=TEXT:DoKomi
BEGIN:VEVENT
TRANSP:TRANSPARENT
UID:event-207@anime-community-germany.de
URL:https://anime-community-germany.de/calendar/event/218-dokomi/
DTSTART;VALUE=DATE:20220604
DTSTAMP:20220604T000000Z
CREATED:20220604T000000Z
SUMMARY:DoKomi
DESCRIPTION:>> Besuche uns auf der DoKomi [URL:https://anime-community-germ
 any.de/forum/thread/43118-besuche-uns-auf-der-dokomi-2022/]\n\n>> DoKomi We
 bseite [URL:https://www.dokomi.de/]\n\n>> Programmheft [URL:https://www.dok
 omi.de/files/downloads/DoKomi_2022_Programmheft_Small.pdf]
LOCATION:Stockumer Kirchstraße 61\, 40474 Düsseldorf\, Deutschland
GEO:51.2618179;6.7377305
DTEND;VALUE=DATE:20220606
CATEGORIES:Dokomi,DoKomi 2022
END:VEVENT
END:VCALENDAR
