BEGIN:VCALENDAR
METHOD:PUBLISH
VERSION:2.0
PRODID:-//WoltLab GmbH//WoltLab Suite Calendar 5.4//EN
CALSCALE:GREGORIAN
X-WR-CALNAME;VALUE=TEXT:AnimagiC Mannheim
BEGIN:VEVENT
TRANSP:TRANSPARENT
UID:event-214@anime-community-germany.de
URL:https://anime-community-germany.de/calendar/event/225-animagic-mannheim
 /
DTSTART;VALUE=DATE:20220805
DTSTAMP:20220805T000000Z
CREATED:20220805T000000Z
SUMMARY:AnimagiC Mannheim
DESCRIPTION:Eine bessere Übersicht\, für alle Mitglieder\, die auf der Conv
 ention sind und sich evtl. treffen möchten! :)\n\nUPDATE: Treffpunkt ist Sa
 mstag\, um 13 Uhr am Eingang an der Tageskasse\, um dann gemeinsam auf der 
 Con ein bisschen zu shoppen und zu stöbern.
LOCATION:Mannheim
DTEND;VALUE=DATE:20220808
END:VEVENT
END:VCALENDAR
