BEGIN:VCALENDAR
METHOD:PUBLISH
VERSION:2.0
PRODID:-//WoltLab GmbH//WoltLab Suite Calendar 5.4//EN
CALSCALE:GREGORIAN
X-WR-CALNAME;VALUE=TEXT:6. bayerisches Community Treffen
BEGIN:VEVENT
TRANSP:OPAQUE
UID:event-23@anime-community-germany.de
URL:https://anime-community-germany.de/calendar/event/23-6-bayerisches-comm
 unity-treffen/
DTSTART:20181208T140000Z
DTSTAMP:20181208T140000Z
CREATED:20181208T140000Z
SUMMARY:6. bayerisches Community Treffen
DESCRIPTION:Bitte tragt euch ein für die Teilnahme am Special-CT in München
   :xmassheep: \nAnmeldeschluss wurde verlängert auf den 5. Dezember  :!: \n
 \nSpecials und Goodies für alle Teilnehmer :!: \n\n6. bayerische Communityt
 reffen - Der Thread [URL:https://anime-community-germany.de/forum/thread/28
 303-6-bayerisches-community-treffen/?postID=941505#post941505]
LOCATION:München\, Deutschland
GEO:48.1351242;11.5819807
DTEND:20181208T200000Z
END:VEVENT
END:VCALENDAR
