BEGIN:VCALENDAR
METHOD:PUBLISH
VERSION:2.0
PRODID:-//WoltLab GmbH//WoltLab Suite Calendar 5.4//EN
CALSCALE:GREGORIAN
X-WR-CALNAME;VALUE=TEXT:24. Ba-Wü CT 25.03.2023
BEGIN:VEVENT
TRANSP:OPAQUE
UID:event-235@anime-community-germany.de
URL:https://anime-community-germany.de/calendar/event/282-24-ba-w%C3%BC-ct-
 25-03-2023/
DTSTART:20230325T110000Z
DTSTAMP:20230325T110000Z
CREATED:20230325T110000Z
SUMMARY:24. Ba-Wü CT 25.03.2023
DESCRIPTION:Die Community Treffen vereinen Menschen mit den gleichen Intere
 ssen rund um Animes\, Mangas und Games.\n\nDie von den Organisatoren geplan
 ten CT's sind keine offiziellen von der ACG ausgerichteten Treffen\, sonder
 n privat organisierte Treffen. Also von Mitgliedern für Mitglieder!\n\n\n\n
 Alle wichtigen Infos zur Teilnahme an Community - Treffen findest Du >>hier
  [URL:https://anime-community-germany.de/forum/thread/29011-info-zu-unseren
 -community-treffen/]<<\n\n\n\nTragt euch ein\, seid dabei und habt Spaß! Ic
 h freu mich auf euch!\n\nNähere Infos findet ihr >> hier [URL:https://anime
 -community-germany.de/forum/thread/43989-24-ba-w%C3%BC-ct-25-03-2023/#post1
 214830] <<
LOCATION:Mannheim
DTEND:20230325T220000Z
END:VEVENT
END:VCALENDAR
