BEGIN:VCALENDAR
METHOD:PUBLISH
VERSION:2.0
PRODID:-//WoltLab GmbH//WoltLab Suite Calendar 5.4//EN
CALSCALE:GREGORIAN
X-WR-CALNAME;VALUE=TEXT:EpicCon
BEGIN:VEVENT
TRANSP:TRANSPARENT
UID:event-24@anime-community-germany.de
URL:https://anime-community-germany.de/calendar/event/24-epiccon/
DTSTART;VALUE=DATE:20190223
DTSTAMP:20190223T000000Z
CREATED:20190223T000000Z
SUMMARY:EpicCon
DESCRIPTION:>> Mehr Informationen [URL:https://anime-community-germany.de/f
 orum/thread/28573-epiccon-2019/]
LOCATION:Albersloher Weg 32\, 48155 Münster\, Deutschland
GEO:51.9478378;7.6388121
DTEND;VALUE=DATE:20190225
END:VEVENT
END:VCALENDAR
