BEGIN:VCALENDAR
METHOD:PUBLISH
VERSION:2.0
PRODID:-//WoltLab GmbH//WoltLab Suite Calendar 5.4//EN
CALSCALE:GREGORIAN
X-WR-CALNAME;VALUE=TEXT:DoKomi
BEGIN:VEVENT
TRANSP:TRANSPARENT
UID:event-25@anime-community-germany.de
URL:https://anime-community-germany.de/calendar/event/25-dokomi/
DTSTART;VALUE=DATE:20190608
DTSTAMP:20190608T000000Z
CREATED:20190608T000000Z
SUMMARY:DoKomi
DESCRIPTION:>> DoKomi 2019 [URL:https://anime-community-germany.de/forum/th
 read/28839-dokomi-2019/]\n\n>> Besuche uns auf der DoKomi [URL:https://anim
 e-community-germany.de/forum/thread/28914-besuche-uns-auf-der-dokomi-2019/]
 
LOCATION:Stockumer Kirchstraße 61\, 40474 Düsseldorf\, Deutschland
GEO:51.2565384;6.7400217
DTEND;VALUE=DATE:20190610
END:VEVENT
END:VCALENDAR
