BEGIN:VCALENDAR
METHOD:PUBLISH
VERSION:2.0
PRODID:-//WoltLab GmbH//WoltLab Suite Calendar 5.4//EN
CALSCALE:GREGORIAN
X-WR-CALNAME;VALUE=TEXT:8. CT Hamburg
BEGIN:VEVENT
TRANSP:OPAQUE
UID:event-264@anime-community-germany.de
URL:https://anime-community-germany.de/calendar/event/311-8-ct-hamburg/
DTSTART:20240120T120000Z
DTSTAMP:20240120T120000Z
CREATED:20240120T120000Z
SUMMARY:8. CT Hamburg
DESCRIPTION:Mehr Infos zum CT gibt's >> HIER << [URL:https://anime-communit
 y-germany.de/forum/thread/44862-8-community-treffen-hamburg/]
LOCATION:Hamburg
DTEND:20240120T210000Z
END:VEVENT
END:VCALENDAR
