BEGIN:VCALENDAR
METHOD:PUBLISH
VERSION:2.0
PRODID:-//WoltLab GmbH//WoltLab Suite Calendar 5.4//EN
CALSCALE:GREGORIAN
X-WR-CALNAME;VALUE=TEXT:19. CT NRW
BEGIN:VEVENT
TRANSP:OPAQUE
UID:event-271@anime-community-germany.de
URL:https://anime-community-germany.de/calendar/event/318-19-ct-nrw/
DTSTART:20240525T100000Z
DTSTAMP:20240525T100000Z
CREATED:20240525T100000Z
SUMMARY:19. CT NRW
DESCRIPTION:Mehr Infos zum CT gibt's >> HIER << [URL:https://anime-communit
 y-germany.de/forum/thread/45210-19-nrw-ct/]
DTEND:20240525T200000Z
CATEGORIES:Nordrhein-Westfalen,NRW CT,Community Treffen
END:VEVENT
END:VCALENDAR
