BEGIN:VCALENDAR
METHOD:PUBLISH
VERSION:2.0
PRODID:-//WoltLab GmbH//WoltLab Suite Calendar 5.4//EN
CALSCALE:GREGORIAN
X-WR-CALNAME;VALUE=TEXT:29. Ba-Wü Community Treffen (Ulm)
BEGIN:VEVENT
TRANSP:OPAQUE
UID:event-276@anime-community-germany.de
URL:https://anime-community-germany.de/calendar/event/323-29-ba-w%C3%BC-com
 munity-treffen-ulm/
DTSTART:20240817T100000Z
DTSTAMP:20240817T100000Z
CREATED:20240817T100000Z
SUMMARY:29. Ba-Wü Community Treffen (Ulm)
DESCRIPTION:Neuer Kalendereintrag für das 29. Ba-Wü CT in Ulm.\n\nBitte mel
 det euch an\, wenn ihr kommen möchtet und teilt das auch im entsprechenden 
 Thread mit\, damit geplant werden kann.\n\n--> 29. Ba-Wü CT (Ulm) - 17. Aug
 ust 2024 [URL:https://anime-community-germany.de/forum/thread/45516-29-ba-w
 %C3%BC-ct-ulm/#post1312793]
LOCATION:89 Ulm\, Deutschland
GEO:48.4010811;9.987608
DTEND:20240817T200000Z
CATEGORIES:Baden-Württemberg,Ulm,Communitytreffen,Community Treffen,ACG CT,
 Bayer
END:VEVENT
END:VCALENDAR
