BEGIN:VCALENDAR
METHOD:PUBLISH
VERSION:2.0
PRODID:-//WoltLab GmbH//WoltLab Suite Calendar 5.4//EN
CALSCALE:GREGORIAN
X-WR-CALNAME;VALUE=TEXT:30. Ba-Wü CT (Ulm)
BEGIN:VEVENT
TRANSP:OPAQUE
UID:event-284@anime-community-germany.de
URL:https://anime-community-germany.de/calendar/event/331-30-ba-w%C3%BC-ct-
 ulm/
DTSTART:20241207T110000Z
DTSTAMP:20241207T110000Z
CREATED:20241207T110000Z
SUMMARY:30. Ba-Wü CT (Ulm)
DESCRIPTION:Der Kalendereintrag für das 30. Ba-Wü CT - diesmal auf dem Ulme
 r Weihnachtsmarkt.\n\nWenn ihr kommen möchtet\, meldet euch bitte an\, dami
 t wir Planungssicherheit haben :)\n\nWeitere Infos könnt ihr dem Thread im 
 Forum entnehmen --> 30. Ba-Wü CT (Ulm - 7.12.) [URL:https://anime-community
 -germany.de/forum/thread/45680-30-ba-w%C3%BC-ct-ulm-7-12/]
LOCATION:Rosengasse 19\, 89073 Ulm\, Deutschland
GEO:48.4011307;9.9959984
DTEND:20241207T210000Z
CATEGORIES:Baden-Württemberg,Bayern,Ulm,Communitytreffen,Weihnachtsmarkt,Co
 mmunity Treffen
END:VEVENT
END:VCALENDAR
