BEGIN:VCALENDAR
METHOD:PUBLISH
VERSION:2.0
PRODID:-//WoltLab GmbH//WoltLab Suite Calendar 5.4//EN
CALSCALE:GREGORIAN
X-WR-CALNAME;VALUE=TEXT:9. CT Hamburg
BEGIN:VEVENT
TRANSP:OPAQUE
UID:event-286@anime-community-germany.de
URL:https://anime-community-germany.de/calendar/event/333-9-ct-hamburg/
DTSTART:20241214T120000Z
DTSTAMP:20241214T120000Z
CREATED:20241214T120000Z
SUMMARY:9. CT Hamburg
DESCRIPTION:Weitere Infos findet ihr unter  >>Communitytreffen [URL:https:/
 /anime-community-germany.de/forum/thread/45770-9-community-treffen-hamburg/
 ]<<
DTEND:20241214T210000Z
END:VEVENT
END:VCALENDAR
