BEGIN:VCALENDAR
METHOD:PUBLISH
VERSION:2.0
PRODID:-//WoltLab GmbH//WoltLab Suite Calendar 5.4//EN
CALSCALE:GREGORIAN
X-WR-CALNAME;VALUE=TEXT:32. Ba-Wü CT (Stuttgart)
BEGIN:VEVENT
TRANSP:OPAQUE
UID:event-296@anime-community-germany.de
URL:https://anime-community-germany.de/calendar/event/343-32-ba-w%C3%BC-ct-
 stuttgart/
DTSTART:20250531T100000Z
DTSTAMP:20250531T100000Z
CREATED:20250531T100000Z
SUMMARY:32. Ba-Wü CT (Stuttgart)
DESCRIPTION:Kalendereintrag für das 32. Baden-Württemberg CT\; diesmal wied
 er in Stuttgart.\nWenn ihr kommen möchtet\, meldet euch bitte an!\n\nWeiter
 e Infos gibt es im Thread: 32. Ba-Wü CT (Stuttgart) [URL:https://anime-comm
 unity-germany.de/forum/thread/46263-32-ba-w%C3%BC-ct-stuttgart/]
LOCATION:Hauptbahnhof\, 70 Stuttgart\, Deutschland
GEO:48.7841721;9.1789217
DTEND:20250531T200000Z
CATEGORIES:Communitytreffen,Anime Community Germany,ACG Verbindet,Community
  Treffen
END:VEVENT
END:VCALENDAR
