BEGIN:VCALENDAR
METHOD:PUBLISH
VERSION:2.0
PRODID:-//WoltLab GmbH//WoltLab Suite Calendar 5.4//EN
CALSCALE:GREGORIAN
X-WR-CALNAME;VALUE=TEXT:19. CT Niedersachsen / Hannover
BEGIN:VEVENT
TRANSP:OPAQUE
UID:event-312@anime-community-germany.de
URL:https://anime-community-germany.de/calendar/event/359-19-ct-niedersachs
 en-hannover/
DTSTART:20251213T070000Z
DTSTAMP:20251213T070000Z
CREATED:20251213T070000Z
SUMMARY:19. CT Niedersachsen / Hannover
DESCRIPTION:Weitere Infos findet ihr >>HIER [URL:https://anime-community-ge
 rmany.de/forum/thread/46948-19-ct-niedersachsen-hannover/]<<
LOCATION:Hannover
DTEND:20251213T210000Z
END:VEVENT
END:VCALENDAR
