BEGIN:VCALENDAR
METHOD:PUBLISH
VERSION:2.0
PRODID:-//WoltLab GmbH//WoltLab Suite Calendar 5.4//EN
CALSCALE:GREGORIAN
X-WR-CALNAME;VALUE=TEXT:Flammkuchen-CT (Köln)
BEGIN:VEVENT
TRANSP:OPAQUE
UID:event-319@anime-community-germany.de
URL:https://anime-community-germany.de/calendar/event/366-flammkuchen-ct-k%
 C3%B6ln/
DTSTART:20260613T120000Z
DTSTAMP:20260613T120000Z
CREATED:20260613T120000Z
SUMMARY:Flammkuchen-CT (Köln)
DESCRIPTION:Der Kalendereintrag für das Flammkuchen-CT in Köln.\nBitte trag
 t euch ein\, wenn ihr kommen möchtet\, damit wiur planen können!\n\nWeitere
  Infos findet ihr im Thread: Köln CT im Juni [URL:https://anime-community-g
 ermany.de/forum/thread/47252-k%C3%B6ln-ct-im-juni/]
LOCATION:Köln Hauptbahnhof\, Trankgasse 11\, 50667 Köln\, Deutschland
GEO:50.9432144;6.9586015
DTEND:20260613T200000Z
END:VEVENT
END:VCALENDAR
