BEGIN:VCALENDAR
METHOD:PUBLISH
VERSION:2.0
PRODID:-//WoltLab GmbH//WoltLab Suite Calendar 5.4//EN
CALSCALE:GREGORIAN
X-WR-CALNAME;VALUE=TEXT:37. Ba-Wü CT (Stuttgart)
BEGIN:VEVENT
TRANSP:OPAQUE
UID:event-320@anime-community-germany.de
URL:https://anime-community-germany.de/calendar/event/367-37-ba-w%C3%BC-ct-
 stuttgart/
DTSTART:20260425T100000Z
DTSTAMP:20260425T100000Z
CREATED:20260425T100000Z
SUMMARY:37. Ba-Wü CT (Stuttgart)
DESCRIPTION:Der Kalendereintrag für das 37. Ba-Wü Community Treffen in Stut
 tgart.\nBitte meldet euch an\, wenn ihr kommen möchtet.\n\nWeitere Infos kö
 nnt ihr dem Thread entnehmen: RE: 37. Ba-Wü CT (Stuttgart) [URL:https://ani
 me-community-germany.de/forum/thread/47237-37-ba-w%C3%BC-ct-stuttgart/?post
 ID=1400489#post1400489]
LOCATION:Königstraße\, 70173 Stuttgart\, Deutschland
GEO:48.7781487;9.1779556
DTEND:20260425T200000Z
END:VEVENT
END:VCALENDAR
