BEGIN:VCALENDAR
METHOD:PUBLISH
VERSION:2.0
PRODID:-//WoltLab GmbH//WoltLab Suite Calendar 5.4//EN
CALSCALE:GREGORIAN
X-WR-CALNAME;VALUE=TEXT:2. Community Treffen Hamburg
BEGIN:VEVENT
TRANSP:TRANSPARENT
UID:event-33@anime-community-germany.de
URL:https://anime-community-germany.de/calendar/event/33-2-community-treffe
 n-hamburg/
DTSTART;VALUE=DATE:20190216
DTSTAMP:20190216T000000Z
CREATED:20190216T000000Z
SUMMARY:2. Community Treffen Hamburg
DESCRIPTION:Mehr Infos zum CT gibt's >> HIER << [URL:https://anime-communit
 y-germany.de/forum/thread/28533-2-community-treffen-hamburg/]
LOCATION:Hamburg\, Deutschland
GEO:53.5510864;9.9936819
DTEND;VALUE=DATE:20190217
END:VEVENT
END:VCALENDAR
