BEGIN:VCALENDAR
METHOD:PUBLISH
VERSION:2.0
PRODID:-//WoltLab GmbH//WoltLab Suite Calendar 5.4//EN
CALSCALE:GREGORIAN
X-WR-CALNAME;VALUE=TEXT:Berlin CT
BEGIN:VEVENT
TRANSP:OPAQUE
UID:event-77@anime-community-germany.de
URL:https://anime-community-germany.de/calendar/event/77-berlin-ct/
DTSTART:20191019T110000Z
DTSTAMP:20191019T110000Z
CREATED:20191019T110000Z
SUMMARY:Berlin CT
DESCRIPTION:Wann? - 19. Oktober 2019\n\nWo? - um 13.00 Uhr an der Weltzeitu
 hr am Alexanderplatz in Berlin\n\nAlle weiteren Infos rund um das Community
 treffen in Berlin findet ihr hier [URL:https://anime-community-germany.de/f
 orum/thread/29360-ct-berlin/?pageNo=1]
LOCATION:10178 Berlin\, Deutschland
GEO:52.5219193;13.4132147
DTEND:20191019T215900Z
CATEGORIES:Community,Treffen,Communitytreffen,Berlin 
END:VEVENT
END:VCALENDAR
